BEGIN:VCALENDAR
VERSION:2.0
PRODID:-//ChamberMaster//Event Calendar 2.0//EN
METHOD:PUBLISH
X-PUBLISHED-TTL:P1H
REFRESH-INTERVAL:P1H
CALSCALE:GREGORIAN
BEGIN:VTIMEZONE
TZID:America/Denver
BEGIN:DAYLIGHT
RRULE:FREQ=YEARLY;BYMONTH=3;BYDAY=2SU
DTSTART:20070101T000000
TZOFFSETFROM:-0700
TZOFFSETTO:-0600
TZNAME:Mountain Daylight Time
END:DAYLIGHT
BEGIN:STANDARD
RRULE:FREQ=YEARLY;BYMONTH=11;BYDAY=1SU
DTSTART:20070101T000000
TZOFFSETFROM:-0600
TZOFFSETTO:-0700
TZNAME:Mountain Standard Time
END:STANDARD
END:VTIMEZONE
BEGIN:VEVENT
DTSTART;TZID=America/Denver:20260423T130000
DTEND;TZID=America/Denver:20260423T140000
X-MICROSOFT-CDO-ALLDAYEVENT:FALSE
SUMMARY:Four Pillars Ribbon Cutting
DESCRIPTION:Four Pillars Fitness Ribbon Cutting:\nYou won't want to miss this! Come welcome this new business to Kaysville\, Enjoy some treats\, get some free classes\, and get a tour! Ribbon cutting at 1:00 PM\n 288 W 200 N #4\, Kaysville\, UT 84037
X-ALT-DESC;FMTTYPE=text/html:Four Pillars Fitness Ribbon Cutting:\nYou won't want to miss this! Come welcome this new business to Kaysville\, Enjoy some treats\, get some free classes\, and get a tour! Ribbon cutting at 1:00 PM\n 288 W 200 N #4\, Kaysville\, UT 84037
LOCATION:288 W 200 N Suite #4 Kaysville UT 84037
UID:e.4004.1445776
SEQUENCE:3
DTSTAMP:20260422T183324Z
URL:https://business.davischamberofcommerce.com/community-calendar/Details/four-pillars-ribbon-cutting-1712429?sourceTypeId=Hub
END:VEVENT
END:VCALENDAR
